BEGIN:VCALENDAR
VERSION:2.0
PRODID:Events Booking
BEGIN:VEVENT
UID:69eb454eae35e
SUMMARY:VB baubio-Treff (7)
DESCRIPTION:verbandsinterne Veranstaltung
 Der VB baubio-Treff bietet alle
 n Mitgliedern des Verband Baubiologie die Möglichkeit miteinander ins Ges
 präch zu kommen.&nbsp\;
LOCATION:Online
DTSTART:20250910T170000Z
DTEND:20250910T210000Z
DTSTAMP:20250625T064700Z
ORGANIZER;CN=Verband Baubiologie:MAILTO:webmaster@hypetec.net
END:VEVENT
END:VCALENDAR