BEGIN:VCALENDAR
VERSION:2.0
PRODID:Events Booking
BEGIN:VEVENT
UID:69e7364d3040c
SUMMARY:ExpertenAbend Radon - Teil 7
DESCRIPTION:THEMA des ABENDS&nbsp\;Radon und Thoron in historischen denkmal
 geschützten Gebäuden – eine besondere Herausforderung für Messtechnik
  und Sanierung
LOCATION:Online
DTSTART:20260209T160000Z
DTEND:20260209T180000Z
DTSTAMP:20251215T103552Z
ORGANIZER;CN=Verband Baubiologie:MAILTO:webmaster@hypetec.net
END:VEVENT
END:VCALENDAR