BEGIN:VCALENDAR
VERSION:2.0
PRODID:Events Booking
BEGIN:VEVENT
UID:69eb45a095ffc
SUMMARY:Vorträge zu Mikroplastik\, PFAS\, Raumluft\, Mobilfunk & Co.
DESCRIPTION:Die Deutsche Gesellschaft für Umwelt- und Humantoxikologie DGU
 HT&nbsp\;e.V.&nbsp\; lädt alle Interessenten kostenfrei zu spannenden Vor
 trägen zu Mikroplastik\, PFAS\, Raumluft\, Mobilfunk &amp\; Co ein.
LOCATION:Online
DTSTART:20250920T120000Z
DTEND:20250920T145000Z
DTSTAMP:20250911T075105Z
ORGANIZER;CN=Verband Baubiologie:MAILTO:webmaster@hypetec.net
END:VEVENT
END:VCALENDAR