BEGIN:VCALENDAR
VERSION:2.0
PRODID:Events Booking
BEGIN:VEVENT
UID:69eb2f1d6f5ec
SUMMARY:VDB Fachkunde-Nachweis Mikrobiologie
DESCRIPTION:Im Fokus dieses zweitägigen Lehrgangs steht die fachgerechte P
 robenahme\, die Bewertung von mikrobiologischen Untersuchungen\, sowie die
  Vermittlung der Grundlagen der Laboranalytik.
LOCATION:12169 Berlin
DTSTART:20250906T080000Z
DTEND:20250907T140000Z
DTSTAMP:20250626T074501Z
ORGANIZER;CN=Verband Baubiologie:MAILTO:webmaster@hypetec.net
GEO:52.450712;13.358224
X-APPLE-STRUCTURED-LOCATION;VALUE=URI;X-ADDRESS=12169 Berlin;X-APPLE-RADIUS
 =72;X-TITLE=Kelchstraße 21\, Haus 1\, Berlin 12169:52.450712;13.358224
END:VEVENT
END:VCALENDAR