BEGIN:VCALENDAR
VERSION:2.0
PRODID:Events Booking
BEGIN:VEVENT
UID:69eb2ec511ce9
SUMMARY:Online-Forum: Kreislaufwirtschaft im Gebäudebereich - Teil 2
DESCRIPTION:Innovationen\, Baustoffkreisläufe und nachhaltige Architektur 
 – effizientes Bauen mit ZukunftDieses Fachforum zeigt auf\, wie Material
 ströme gezielt gesteuert werden können\, um Ressourcenzu schonen und den
  ökologischen Fußabdruck zu minimieren.
LOCATION:Online
DTSTART:20250924T120000Z
DTEND:20250924T150000Z
DTSTAMP:20250910T081838Z
ORGANIZER;CN=Verband Baubiologie:MAILTO:webmaster@hypetec.net
END:VEVENT
END:VCALENDAR