BEGIN:VCALENDAR
VERSION:2.0
PRODID:Events Booking
BEGIN:VEVENT
UID:69e88f3417113
SUMMARY:Offenes baubiologisches Netzwerktreffen in Stuttgart
DESCRIPTION:Der Verband Baubiologie und die STIFTUNG B.A.U. laden alle Inte
 ressierten herzlich ein zum offenen Netzwerktreffen!
LOCATION:70174 Stuttgart 
DTSTART:20251110T170000Z
DTEND:20251110T200000Z
DTSTAMP:20251027T080850Z
ORGANIZER;CN=Verband Baubiologie:MAILTO:webmaster@hypetec.net
GEO:48.781342;9.173608
X-APPLE-STRUCTURED-LOCATION;VALUE=URI;X-ADDRESS=70174 Stuttgart ;X-APPLE-RA
 DIUS=72;X-TITLE=70174 Stuttgart :48.781342;9.173608
END:VEVENT
END:VCALENDAR