BEGIN:VCALENDAR
VERSION:2.0
PRODID:Events Booking
BEGIN:VEVENT
UID:69e891a317b63
SUMMARY:Offenes baubiologisches Netzwerktreffen in Berlin
DESCRIPTION:Der Verband Baubiologie und die STIFTUNG B.A.U. laden alle Inte
 ressierten herzlich ein zum offenen Netzwerktreffen!
LOCATION:14052 Berlin
DTSTART:20251117T170000Z
DTEND:20251117T200000Z
DTSTAMP:20251028T102500Z
ORGANIZER;CN=Verband Baubiologie:MAILTO:webmaster@hypetec.net
GEO:52.510182;13.271323
X-APPLE-STRUCTURED-LOCATION;VALUE=URI;X-ADDRESS=14052 Berlin;X-APPLE-RADIUS
 =72;X-TITLE=14052 Berlin:52.510182;13.271323
END:VEVENT
END:VCALENDAR