BEGIN:VCALENDAR
VERSION:2.0
PRODID:Events Booking
BEGIN:VEVENT
UID:69eb2f5518aeb
SUMMARY:Grundschulung Innenraum - von der Probenahme bis zur Bewertung
DESCRIPTION:Vom 29. - 30.09.2025 lädt das Analytik Institut Rietzler ein z
 um Seminar \"Grundschulung Innenraum - Von der Probenahme bis zur Bewertun
 g\".&nbsp\;
LOCATION:90766 Fürth
DTSTART:20250929T080000Z
DTEND:20250930T140000Z
DTSTAMP:20250626T082717Z
ORGANIZER;CN=Verband Baubiologie:MAILTO:webmaster@hypetec.net
GEO:49.47911;10.94752
X-APPLE-STRUCTURED-LOCATION;VALUE=URI;X-ADDRESS=90766 Fürth;X-APPLE-RADIUS
 =72;X-TITLE=Analytik Institut Rietzler GmbH Laborstandort Fürth Dieter-St
 reng-Str. 5\, 90766 Fürth :49.47911;10.94752
END:VEVENT
END:VCALENDAR