BEGIN:VCALENDAR
VERSION:2.0
PRODID:Events Booking
BEGIN:VEVENT
UID:69eb2ef409e12
SUMMARY:Genuss-Exkursion und Netzwerktreffen am herrlichen Bodensee Gerüch
 e und Geschmack – Riechen\, Schmecken\, Fühlen - Sensoriktraining mit G
 enuss
DESCRIPTION:Diese neue Exkursionsreihe richtet sich an alle Genießer\, die
  ihre sensorischen Fähigkeiten Geruch und Geschmack auf freudvolle Weise 
 vertiefen möchten.&nbsp\;Netzwerktreffen von Stiftung B.A.U.\, Verband Ba
 ubiologie\, DGUHT\, kdR\, MdR\, TH Rosenheim\, Technologie und Transferzen
 trum Rosenheim (TTZ) und weiteren Institutionen.
LOCATION:88079 Kressbronn
DTSTART:20250801T090000Z
DTEND:20250802T160000Z
DTSTAMP:20250626T070529Z
ORGANIZER;CN=Verband Baubiologie:MAILTO:webmaster@hypetec.net
GEO:47.598227;9.598275
X-APPLE-STRUCTURED-LOCATION;VALUE=URI;X-ADDRESS=88079 Kressbronn;X-APPLE-RA
 DIUS=72;X-TITLE=88079 Kressbronn :47.598227;9.598275
END:VEVENT
END:VCALENDAR